BEGIN:VCALENDAR
VERSION:2.0
PRODID:-//wp-events-plugin.com//7.2.3.1//EN
BEGIN:VEVENT
UID:27@lavlii.com
DTSTART:20241208T150000Z
DTEND:20241208T170000Z
DTSTAMP:20241209T131455Z
URL:https://lavlii.com/events/brunch-and-baubles-at-loulou/
SUMMARY:Brunch and Baubles at LouLou
DESCRIPTION:\n\nIndulge in a stylish and cheerful holiday brunch while expl
 oring an enchanting world of bespoke jewelry and accessories. Join us at L
 ouLou\, a charming French-inspired restaurant known for its cozy\, chic at
 mosphere and delicious bites\n\n\n\nWhy You’ll Love It:\n\n 	Custom Acce
 ssory Consultations: Explore the opportunity to design a personalized piec
 e that’s tailored to your unique style and preferences. Whether it’s a
  stunning accessory for yourself or a thoughtful holiday gift\, we’re he
 re to bring your vision to life.\n 	Sip and Socialize: Enjoy a relaxed mor
 ning with mimosas\, cocktails\, and delectable French cuisine while mingli
 ng with like-minded ladies in a sophisticated\, welcoming setting.\n 	Elev
 ate Your Look: Explore our versatile collection of accessories\, perfect f
 or both casual elegance and glamorous occasions\n 	Reconnect and Make New 
 Friends: Reconnect with familiar faces and meet new ones in a cozy\, elega
 nt atmosphere. This is the perfect opportunity to strengthen connections a
 nd expand your circle.\n 	Exclusive Holiday Vibes: Surround yourself with 
 the charm of LouLou and soak in the festive ambiance—it’s the perfect 
 way to kick off your Sunday.\n 	Relax and Treat Yourself: Make this event 
 a moment for self-care\, with great food\, inspiring designs\, and fun con
 versations to spark your holiday spirit.\n\nBring a friend or two\, or com
 e solo to meet new connections—we promise a morning full of laughter\, b
 eauty\, and inspiration. Join us for a bite\, a sip\, and a touch of spark
 le! No RSVP needed—just stop by and enjoy the magic.
ATTACH;FMTTYPE=image/jpeg:https://lavlii.com/wp-content/uploads/2024/12/br
 unch-and-baubles-at-louLou.jpg
LOCATION:LouLou\, 176 8th Avenue\, New York\, New York\, 10011\, United Sta
 tes
GEO:40.74262;-74.000052
X-APPLE-STRUCTURED-LOCATION;VALUE=URI;X-ADDRESS=176 8th Avenue\, New York\,
  New York\, 10011\, United States;X-APPLE-RADIUS=100;X-TITLE=LouLou:geo:40
 .74262,-74.000052
END:VEVENT
END:VCALENDAR